Workbook

Sheet Instructions
A2: Please be sure to include the name of your pantry on the form, along with the store name, number, and/or location.
A3: If you visit multiple stores, you can still put them on the same form if you would like, as long as you fill in column A.
A4: By selecting from the drop-down menu in each cell, the formulas on the right will calculate the totals for you.
A5: Please feel free to add as many tabs as you would like or you are welcome to keep a separate workbook for each retailer. This is your tool, I only pull the total numbers each month. If you would like to keep on Google Sheets and send me a link, that is fine too! I am always happy to help with Excel if you need some tips & tricks!
A6: Retail Rescue reporting cycle is from the 20th of the month to the 19th (e.g. for January 2024, report December 20th thru January 19th). Please complete and return your report by the 22nd of each month in order for us complete our reports. (Following business day is fine if the 22nd is on a weekend.)
A7: This program is so critical to both our retail partners and each of us. Thank you for your support!
A8: Questions/ Concerns? Please contact Amberlee at Shared Harvest Foodbank: amberlee@sharedharvest.org

Sheet January
A1: Agency: | B1: (Your agency name here) | E1: *Please do not try to edit the cells in gray, the formulas are built into total the columns to the left.
A2: Store: | B2: (Name of retailer & store # or location)
A3: Store (if you have multiples) | B3: Date | C3: Category | D3: Pounds | E3: Totals by Category:
E4: Meat | F4: =SUMIFS(D4:D60,C4:C60,"*Meat*") -> 0 | L4: Meat
E5: Produce | F5: =SUMIFS(D4:D60,C4:C60,"*Produce*") -> 0 | L5: Produce
E6: Bakery | F6: =SUMIFS(D4:D60,C4:C60,"*Bakery*") -> 0 | L6: Bakery
E7: Refrigerated Mix | F7: =SUMIFS(D4:D60,C4:C60,"*Refrigerated*") -> 0 | L7: Refrigerated Mix
E8: Frozen Mix | F8: =SUMIFS(D4:D60,C4:C60,"*Frozen Mix*") -> 0 | L8: Frozen Mix
E9: Dry Grocery | F9: =SUMIFS(D4:D60,C4:C60,"*Dry Grocery*") -> 0 | L9: Dry Grocery
E10: Deli/Prepared | F10: =SUMIFS(D4:D60,C4:C60,"*Deli/Prepared*") -> 0 | L10: Deli/ Prepared
E11: Other/Non-Food | F11: =SUMIFS(D4:D60,C4:C60,"*Non-Food*") -> 0 | L11: Other/Non-Food
E12: Pet Food | F12: =SUMIFS(D4:D60,C4:C60,"*Pet Food*") -> 0 | L12: Pet Food
E13: Beverages (non-dairy) | F13: =SUMIFS(D4:D60,C4:C60,"*Beverages (non-dairy)*") -> 0 | L13: Beverages (non-dairy)
E14: Total: | F14: =SUM(F4:F13) -> 0

Sheet February
A1: Agency: | B1: (Your agency name here) | E1: *Please do not try to edit the cells in gray, the formulas are built into total the columns to the left.
A2: Store: | B2: (Name of retailer & store # or location)
A3: Store (if you have multiples) | B3: Date | C3: Category | D3: Pounds | E3: Totals by Category:
E4: Meat | F4: =SUMIFS(D4:D60,C4:C60,"*Meat*") -> 0 | L4: Meat
E5: Produce | F5: =SUMIFS(D4:D60,C4:C60,"*Produce*") -> 0 | L5: Produce
E6: Bakery | F6: =SUMIFS(D4:D60,C4:C60,"*Bakery*") -> 0 | L6: Bakery
E7: Refrigerated Mix | F7: =SUMIFS(D4:D60,C4:C60,"*Refrigerated*") -> 0 | L7: Refrigerated Mix
E8: Frozen Mix | F8: =SUMIFS(D4:D60,C4:C60,"*Frozen Mix*") -> 0 | L8: Frozen Mix
E9: Dry Grocery | F9: =SUMIFS(D4:D60,C4:C60,"*Dry Grocery*") -> 0 | L9: Dry Grocery
E10: Deli/Prepared | F10: =SUMIFS(D4:D60,C4:C60,"*Deli/Prepared*") -> 0 | L10: Deli/ Prepared
E11: Other/Non-Food | F11: =SUMIFS(D4:D60,C4:C60,"*Non-Food*") -> 0 | L11: Other/Non-Food
E12: Pet Food | F12: =SUMIFS(D4:D60,C4:C60,"*Pet Food*") -> 0 | L12: Pet Food
E13: Beverages (non-dairy) | F13: =SUMIFS(D4:D60,C4:C60,"*Beverages (non-dairy)*") -> 0 | L13: Beverages (non-dairy)
E14: Total: | F14: =SUM(F4:F13) -> 0

Sheet March
A1: Agency: | B1: (Your agency name here) | E1: *Please do not try to edit the cells in gray, the formulas are built into total the columns to the left.
A2: Store: | B2: (Name of retailer & store # or location)
A3: Store (if you have multiples) | B3: Date | C3: Category | D3: Pounds | E3: Totals by Category:
E4: Meat | F4: =SUMIFS(D4:D60,C4:C60,"*Meat*") -> 0 | L4: Meat
E5: Produce | F5: =SUMIFS(D4:D60,C4:C60,"*Produce*") -> 0 | L5: Produce
E6: Bakery | F6: =SUMIFS(D4:D60,C4:C60,"*Bakery*") -> 0 | L6: Bakery
E7: Refrigerated Mix | F7: =SUMIFS(D4:D60,C4:C60,"*Refrigerated*") -> 0 | L7: Refrigerated Mix
E8: Frozen Mix | F8: =SUMIFS(D4:D60,C4:C60,"*Frozen Mix*") -> 0 | L8: Frozen Mix
E9: Dry Grocery | F9: =SUMIFS(D4:D60,C4:C60,"*Dry Grocery*") -> 0 | L9: Dry Grocery
E10: Deli/Prepared | F10: =SUMIFS(D4:D60,C4:C60,"*Deli/Prepared*") -> 0 | L10: Deli/ Prepared
E11: Other/Non-Food | F11: =SUMIFS(D4:D60,C4:C60,"*Non-Food*") -> 0 | L11: Other/Non-Food
E12: Pet Food | F12: =SUMIFS(D4:D60,C4:C60,"*Pet Food*") -> 0 | L12: Pet Food
E13: Beverages (non-dairy) | F13: =SUMIFS(D4:D60,C4:C60,"*Beverages (non-dairy)*") -> 0 | L13: Beverages (non-dairy)
E14: Total: | F14: =SUM(F4:F13) -> 0

Sheet April
A1: Agency: | B1: (Your agency name here) | E1: *Please do not try to edit the cells in gray, the formulas are built into total the columns to the left.
A2: Store: | B2: (Name of retailer & store # or location)
A3: Store (if you have multiples) | B3: Date | C3: Category | D3: Pounds | E3: Totals by Category:
E4: Meat | F4: =SUMIFS(D4:D60,C4:C60,"*Meat*") -> 0 | L4: Meat
E5: Produce | F5: =SUMIFS(D4:D60,C4:C60,"*Produce*") -> 0 | L5: Produce
E6: Bakery | F6: =SUMIFS(D4:D60,C4:C60,"*Bakery*") -> 0 | L6: Bakery
E7: Refrigerated Mix | F7: =SUMIFS(D4:D60,C4:C60,"*Refrigerated*") -> 0 | L7: Refrigerated Mix
E8: Frozen Mix | F8: =SUMIFS(D4:D60,C4:C60,"*Frozen Mix*") -> 0 | L8: Frozen Mix
E9: Dry Grocery | F9: =SUMIFS(D4:D60,C4:C60,"*Dry Grocery*") -> 0 | L9: Dry Grocery
E10: Deli/Prepared | F10: =SUMIFS(D4:D60,C4:C60,"*Deli/Prepared*") -> 0 | L10: Deli/ Prepared
E11: Other/Non-Food | F11: =SUMIFS(D4:D60,C4:C60,"*Non-Food*") -> 0 | L11: Other/Non-Food
E12: Pet Food | F12: =SUMIFS(D4:D60,C4:C60,"*Pet Food*") -> 0 | L12: Pet Food
E13: Beverages (non-dairy) | F13: =SUMIFS(D4:D60,C4:C60,"*Beverages (non-dairy)*") -> 0 | L13: Beverages (non-dairy)
E14: Total: | F14: =SUM(F4:F13) -> 0

Sheet May
A1: Agency: | B1: (Your agency name here) | E1: *Please do not try to edit the cells in gray, the formulas are built into total the columns to the left.
A2: Store: | B2: (Name of retailer & store # or location)
A3: Store (if you have multiples) | B3: Date | C3: Category | D3: Pounds | E3: Totals by Category:
E4: Meat | F4: =SUMIFS(D4:D60,C4:C60,"*Meat*") -> 0 | L4: Meat
E5: Produce | F5: =SUMIFS(D4:D60,C4:C60,"*Produce*") -> 0 | L5: Produce
E6: Bakery | F6: =SUMIFS(D4:D60,C4:C60,"*Bakery*") -> 0 | L6: Bakery
E7: Refrigerated Mix | F7: =SUMIFS(D4:D60,C4:C60,"*Refrigerated*") -> 0 | L7: Refrigerated Mix
E8: Frozen Mix | F8: =SUMIFS(D4:D60,C4:C60,"*Frozen Mix*") -> 0 | L8: Frozen Mix
E9: Dry Grocery | F9: =SUMIFS(D4:D60,C4:C60,"*Dry Grocery*") -> 0 | L9: Dry Grocery
E10: Deli/Prepared | F10: =SUMIFS(D4:D60,C4:C60,"*Deli/Prepared*") -> 0 | L10: Deli/ Prepared
E11: Other/Non-Food | F11: =SUMIFS(D4:D60,C4:C60,"*Non-Food*") -> 0 | L11: Other/Non-Food
E12: Pet Food | F12: =SUMIFS(D4:D60,C4:C60,"*Pet Food*") -> 0 | L12: Pet Food
E13: Beverages (non-dairy) | F13: =SUMIFS(D4:D60,C4:C60,"*Beverages (non-dairy)*") -> 0 | L13: Beverages (non-dairy)
E14: Total: | F14: =SUM(F4:F13) -> 0

Sheet June
A1: Agency: | B1: (Your agency name here) | E1: *Please do not try to edit the cells in gray, the formulas are built into total the columns to the left.
A2: Store: | B2: (Name of retailer & store # or location)
A3: Store (if you have multiples) | B3: Date | C3: Category | D3: Pounds | E3: Totals by Category:
E4: Meat | F4: =SUMIFS(D4:D60,C4:C60,"*Meat*") -> 0 | L4: Meat
E5: Produce | F5: =SUMIFS(D4:D60,C4:C60,"*Produce*") -> 0 | L5: Produce
E6: Bakery | F6: =SUMIFS(D4:D60,C4:C60,"*Bakery*") -> 0 | L6: Bakery
E7: Refrigerated Mix | F7: =SUMIFS(D4:D60,C4:C60,"*Refrigerated*") -> 0 | L7: Refrigerated Mix
E8: Frozen Mix | F8: =SUMIFS(D4:D60,C4:C60,"*Frozen Mix*") -> 0 | L8: Frozen Mix
E9: Dry Grocery | F9: =SUMIFS(D4:D60,C4:C60,"*Dry Grocery*") -> 0 | L9: Dry Grocery
E10: Deli/Prepared | F10: =SUMIFS(D4:D60,C4:C60,"*Deli/Prepared*") -> 0 | L10: Deli/ Prepared
E11: Other/Non-Food | F11: =SUMIFS(D4:D60,C4:C60,"*Non-Food*") -> 0 | L11: Other/Non-Food
E12: Pet Food | F12: =SUMIFS(D4:D60,C4:C60,"*Pet Food*") -> 0 | L12: Pet Food
E13: Beverages (non-dairy) | F13: =SUMIFS(D4:D60,C4:C60,"*Beverages (non-dairy)*") -> 0 | L13: Beverages (non-dairy)
E14: Total: | F14: =SUM(F4:F13) -> 0

Sheet July
A1: Agency: | B1: (Your agency name here) | E1: *Please do not try to edit the cells in gray, the formulas are built into total the columns to the left.
A2: Store: | B2: (Name of retailer & store # or location)
A3: Store (if you have multiples) | B3: Date | C3: Category | D3: Pounds | E3: Totals by Category:
E4: Meat | F4: =SUMIFS(D4:D60,C4:C60,"*Meat*") -> 0 | L4: Meat
E5: Produce | F5: =SUMIFS(D4:D60,C4:C60,"*Produce*") -> 0 | L5: Produce
E6: Bakery | F6: =SUMIFS(D4:D60,C4:C60,"*Bakery*") -> 0 | L6: Bakery
E7: Refrigerated Mix | F7: =SUMIFS(D4:D60,C4:C60,"*Refrigerated*") -> 0 | L7: Refrigerated Mix
E8: Frozen Mix | F8: =SUMIFS(D4:D60,C4:C60,"*Frozen Mix*") -> 0 | L8: Frozen Mix
E9: Dry Grocery | F9: =SUMIFS(D4:D60,C4:C60,"*Dry Grocery*") -> 0 | L9: Dry Grocery
E10: Deli/Prepared | F10: =SUMIFS(D4:D60,C4:C60,"*Deli/Prepared*") -> 0 | L10: Deli/ Prepared
E11: Other/Non-Food | F11: =SUMIFS(D4:D60,C4:C60,"*Non-Food*") -> 0 | L11: Other/Non-Food
E12: Pet Food | F12: =SUMIFS(D4:D60,C4:C60,"*Pet Food*") -> 0 | L12: Pet Food
E13: Beverages (non-dairy) | F13: =SUMIFS(D4:D60,C4:C60,"*Beverages (non-dairy)*") -> 0 | L13: Beverages (non-dairy)
E14: Total: | F14: =SUM(F4:F13) -> 0

Sheet August
A1: Agency: | B1: (Your agency name here) | E1: *Please do not try to edit the cells in gray, the formulas are built into total the columns to the left.
A2: Store: | B2: (Name of retailer & store # or location)
A3: Store (if you have multiples) | B3: Date | C3: Category | D3: Pounds | E3: Totals by Category:
E4: Meat | F4: =SUMIFS(D4:D60,C4:C60,"*Meat*") -> 0 | L4: Meat
E5: Produce | F5: =SUMIFS(D4:D60,C4:C60,"*Produce*") -> 0 | L5: Produce
E6: Bakery | F6: =SUMIFS(D4:D60,C4:C60,"*Bakery*") -> 0 | L6: Bakery
E7: Refrigerated Mix | F7: =SUMIFS(D4:D60,C4:C60,"*Refrigerated*") -> 0 | L7: Refrigerated Mix
E8: Frozen Mix | F8: =SUMIFS(D4:D60,C4:C60,"*Frozen Mix*") -> 0 | L8: Frozen Mix
E9: Dry Grocery | F9: =SUMIFS(D4:D60,C4:C60,"*Dry Grocery*") -> 0 | L9: Dry Grocery
E10: Deli/Prepared | F10: =SUMIFS(D4:D60,C4:C60,"*Deli/Prepared*") -> 0 | L10: Deli/ Prepared
E11: Other/Non-Food | F11: =SUMIFS(D4:D60,C4:C60,"*Non-Food*") -> 0 | L11: Other/Non-Food
E12: Pet Food | F12: =SUMIFS(D4:D60,C4:C60,"*Pet Food*") -> 0 | L12: Pet Food
E13: Beverages (non-dairy) | F13: =SUMIFS(D4:D60,C4:C60,"*Beverages (non-dairy)*") -> 0 | L13: Beverages (non-dairy)
E14: Total: | F14: =SUM(F4:F13) -> 0

Sheet September
A1: Agency: | B1: (Your agency name here) | E1: *Please do not try to edit the cells in gray, the formulas are built into total the columns to the left.
A2: Store: | B2: (Name of retailer & store # or location)
A3: Store (if you have multiples) | B3: Date | C3: Category | D3: Pounds | E3: Totals by Category:
E4: Meat | F4: =SUMIFS(D4:D60,C4:C60,"*Meat*") -> 0 | L4: Meat
E5: Produce | F5: =SUMIFS(D4:D60,C4:C60,"*Produce*") -> 0 | L5: Produce
E6: Bakery | F6: =SUMIFS(D4:D60,C4:C60,"*Bakery*") -> 0 | L6: Bakery
E7: Refrigerated Mix | F7: =SUMIFS(D4:D60,C4:C60,"*Refrigerated*") -> 0 | L7: Refrigerated Mix
E8: Frozen Mix | F8: =SUMIFS(D4:D60,C4:C60,"*Frozen Mix*") -> 0 | L8: Frozen Mix
E9: Dry Grocery | F9: =SUMIFS(D4:D60,C4:C60,"*Dry Grocery*") -> 0 | L9: Dry Grocery
E10: Deli/Prepared | F10: =SUMIFS(D4:D60,C4:C60,"*Deli/Prepared*") -> 0 | L10: Deli/ Prepared
E11: Other/Non-Food | F11: =SUMIFS(D4:D60,C4:C60,"*Non-Food*") -> 0 | L11: Other/Non-Food
E12: Pet Food | F12: =SUMIFS(D4:D60,C4:C60,"*Pet Food*") -> 0 | L12: Pet Food
E13: Beverages (non-dairy) | F13: =SUMIFS(D4:D60,C4:C60,"*Beverages (non-dairy)*") -> 0 | L13: Beverages (non-dairy)
E14: Total: | F14: =SUM(F4:F13) -> 0

Sheet October
A1: Agency: | B1: (Your agency name here) | E1: *Please do not try to edit the cells in gray, the formulas are built into total the columns to the left.
A2: Store: | B2: (Name of retailer & store # or location)
A3: Store (if you have multiples) | B3: Date | C3: Category | D3: Pounds | E3: Totals by Category:
E4: Meat | F4: =SUMIFS(D4:D60,C4:C60,"*Meat*") -> 0 | L4: Meat
E5: Produce | F5: =SUMIFS(D4:D60,C4:C60,"*Produce*") -> 0 | L5: Produce
E6: Bakery | F6: =SUMIFS(D4:D60,C4:C60,"*Bakery*") -> 0 | L6: Bakery
E7: Refrigerated Mix | F7: =SUMIFS(D4:D60,C4:C60,"*Refrigerated*") -> 0 | L7: Refrigerated Mix
E8: Frozen Mix | F8: =SUMIFS(D4:D60,C4:C60,"*Frozen Mix*") -> 0 | L8: Frozen Mix
E9: Dry Grocery | F9: =SUMIFS(D4:D60,C4:C60,"*Dry Grocery*") -> 0 | L9: Dry Grocery
E10: Deli/Prepared | F10: =SUMIFS(D4:D60,C4:C60,"*Deli/Prepared*") -> 0 | L10: Deli/ Prepared
E11: Other/Non-Food | F11: =SUMIFS(D4:D60,C4:C60,"*Non-Food*") -> 0 | L11: Other/Non-Food
E12: Pet Food | F12: =SUMIFS(D4:D60,C4:C60,"*Pet Food*") -> 0 | L12: Pet Food
E13: Beverages (non-dairy) | F13: =SUMIFS(D4:D60,C4:C60,"*Beverages (non-dairy)*") -> 0 | L13: Beverages (non-dairy)
E14: Total: | F14: =SUM(F4:F13) -> 0

Sheet November
A1: Agency: | B1: (Your agency name here) | E1: *Please do not try to edit the cells in gray, the formulas are built into total the columns to the left.
A2: Store: | B2: (Name of retailer & store # or location)
A3: Store (if you have multiples) | B3: Date | C3: Category | D3: Pounds | E3: Totals by Category:
E4: Meat | F4: =SUMIFS(D4:D60,C4:C60,"*Meat*") -> 0 | L4: Meat
E5: Produce | F5: =SUMIFS(D4:D60,C4:C60,"*Produce*") -> 0 | L5: Produce
E6: Bakery | F6: =SUMIFS(D4:D60,C4:C60,"*Bakery*") -> 0 | L6: Bakery
E7: Refrigerated Mix | F7: =SUMIFS(D4:D60,C4:C60,"*Refrigerated*") -> 0 | L7: Refrigerated Mix
E8: Frozen Mix | F8: =SUMIFS(D4:D60,C4:C60,"*Frozen Mix*") -> 0 | L8: Frozen Mix
E9: Dry Grocery | F9: =SUMIFS(D4:D60,C4:C60,"*Dry Grocery*") -> 0 | L9: Dry Grocery
E10: Deli/Prepared | F10: =SUMIFS(D4:D60,C4:C60,"*Deli/Prepared*") -> 0 | L10: Deli/ Prepared
E11: Other/Non-Food | F11: =SUMIFS(D4:D60,C4:C60,"*Non-Food*") -> 0 | L11: Other/Non-Food
E12: Pet Food | F12: =SUMIFS(D4:D60,C4:C60,"*Pet Food*") -> 0 | L12: Pet Food
E13: Beverages (non-dairy) | F13: =SUMIFS(D4:D60,C4:C60,"*Beverages (non-dairy)*") -> 0 | L13: Beverages (non-dairy)
E14: Total: | F14: =SUM(F4:F13) -> 0

Sheet December
A1: Agency: | B1: (Your agency name here) | E1: *Please do not try to edit the cells in gray, the formulas are built into total the columns to the left.
A2: Store: | B2: (Name of retailer & store # or location)
A3: Store (if you have multiples) | B3: Date | C3: Category | D3: Pounds | E3: Totals by Category:
E4: Meat | F4: =SUMIFS(D4:D60,C4:C60,"*Meat*") -> 0 | L4: Meat
E5: Produce | F5: =SUMIFS(D4:D60,C4:C60,"*Produce*") -> 0 | L5: Produce
E6: Bakery | F6: =SUMIFS(D4:D60,C4:C60,"*Bakery*") -> 0 | L6: Bakery
E7: Refrigerated Mix | F7: =SUMIFS(D4:D60,C4:C60,"*Refrigerated*") -> 0 | L7: Refrigerated Mix
E8: Frozen Mix | F8: =SUMIFS(D4:D60,C4:C60,"*Frozen Mix*") -> 0 | L8: Frozen Mix
E9: Dry Grocery | F9: =SUMIFS(D4:D60,C4:C60,"*Dry Grocery*") -> 0 | L9: Dry Grocery
E10: Deli/Prepared | F10: =SUMIFS(D4:D60,C4:C60,"*Deli/Prepared*") -> 0 | L10: Deli/ Prepared
E11: Other/Non-Food | F11: =SUMIFS(D4:D60,C4:C60,"*Non-Food*") -> 0 | L11: Other/Non-Food
E12: Pet Food | F12: =SUMIFS(D4:D60,C4:C60,"*Pet Food*") -> 0 | L12: Pet Food
E13: Beverages (non-dairy) | F13: =SUMIFS(D4:D60,C4:C60,"*Beverages (non-dairy)*") -> 0 | L13: Beverages (non-dairy)
E14: Total: | F14: =SUM(F4:F13) -> 0

Sheet TOTALS
A1: Totals by Category:
A2: Meat | B2: =SUM(January!F4+February!F4+March!F4+April!F4+May!F4+June!F4+July!F4+August!F4+September!F4+October!F4+November!F4+December!F4) -> 0
A3: Produce | B3: =SUM(January!F5+February!F5+March!F5+April!F5+May!F5+June!F5+July!F5+August!F5+September!F5+October!F5+November!F5+December!F5) -> 0
A4: Bakery | B4: =SUM(January!F6+February!F6+March!F6+April!F6+May!F6+June!F6+July!F6+August!F6+September!F6+October!F6+November!F6+December!F6) -> 0
A5: Refrigerated Mix | B5: =SUM(January!F7+February!F7+March!F7+April!F7+May!F7+June!F7+July!F7+August!F7+September!F7+October!F7+November!F7+December!F7) -> 0
A6: Frozen Mix | B6: =SUM(January!F8+February!F8+March!F8+April!F8+May!F8+June!F8+July!F8+August!F8+September!F8+October!F8+November!F8+December!F8) -> 0
A7: Dry Grocery | B7: =SUM(January!F9+February!F9+March!F9+April!F9+May!F9+June!F9+July!F9+August!F9+September!F9+October!F9+November!F9+December!F9) -> 0
A8: Deli/Prepared | B8: =SUM(January!F10+February!F10+March!F10+April!F10+May!F10+June!F10+July!F10+August!F10+September!F10+October!F10+November!F10+December!F10) -> 0
A9: Other/Non-Food | B9: =SUM(January!F11+February!F11+March!F11+April!F11+May!F11+June!F11+July!F11+August!F11+September!F11+October!F11+November!F11+December!F11) -> 0
A10: Pet Food | B10: =SUM(January!F12+February!F12+March!F12+April!F12+May!F12+June!F12+July!F12+August!F12+September!F12+October!F12+November!F12+December!F12) -> 0
A11: Beverages (non-dairy) | B11: =SUM(January!F13+February!F13+March!F13+April!F13+May!F13+June!F13+July!F13+August!F13+September!F13+October!F13+November!F13+December!F13) -> 0
A12: Total: | B12: =SUM(B2:B11) -> 0

Sheet Sheet1
A2: Meat
A3: Produce
A4: Bakery
A5: Refrigerated Mix
A6: Frozen Mix
A7: Dry Grocery
A8: Deli/Prepared
A9: Other/Non-Food
A10: Pet Food
A11: Beverages (non-dairy)
